BEGIN:VCALENDAR
VERSION:2.0
PRODID:-//Relax Memphis - ECPv6.8.3//NONSGML v1.0//EN
CALSCALE:GREGORIAN
METHOD:PUBLISH
X-ORIGINAL-URL:https://relaxmemphis.com
X-WR-CALDESC:Events for Relax Memphis
REFRESH-INTERVAL;VALUE=DURATION:PT1H
X-Robots-Tag:noindex
X-PUBLISHED-TTL:PT1H
BEGIN:VTIMEZONE
TZID:UTC
BEGIN:STANDARD
TZOFFSETFROM:+0000
TZOFFSETTO:+0000
TZNAME:UTC
DTSTART:20240101T000000
END:STANDARD
END:VTIMEZONE
BEGIN:VEVENT
DTSTART;VALUE=DATE:20240327
DTEND;VALUE=DATE:20240328
DTSTAMP:20260422T151640
CREATED:20240402T210046Z
LAST-MODIFIED:20240402T210046Z
UID:298-1711497600-1711583999@relaxmemphis.com
SUMMARY:2024 Spring Serenity Challenge
DESCRIPTION:Engage in a body scan meditation.
URL:https://relaxmemphis.com/experience/2024-spring-serenity-challenge-4/
CATEGORIES:Self- Care Adventures
ATTACH;FMTTYPE=image/png:https://relaxmemphis.com/wp-content/uploads/2024/04/2024-Spring-Serenity-Challenge-Guide-11.png
END:VEVENT
END:VCALENDAR